BEGIN:VCALENDAR
VERSION:2.0
PRODID:-//162.43.121.24//NONSGML kigkonsult.se iCalcreator 2.26.9//
CALSCALE:GREGORIAN
METHOD:PUBLISH
X-FROM-URL:https://shirakawadenkyo.or.jp
X-WR-TIMEZONE:Asia/Tokyo
BEGIN:VTIMEZONE
TZID:Asia/Tokyo
X-LIC-LOCATION:Asia/Tokyo
BEGIN:STANDARD
DTSTART:19510909T010000
TZOFFSETFROM:+1000
TZOFFSETTO:+0900
TZNAME:JST
END:STANDARD
END:VTIMEZONE
BEGIN:VEVENT
UID:ai1ec-1825@shirakawadenkyo.or.jp/wp
DTSTAMP:20260420T133600Z
CATEGORIES:
CONTACT:
DESCRIPTION:
DTSTART;VALUE=DATE:20231025
DTEND;VALUE=DATE:20231027
LOCATION:福島競馬場　他
SEQUENCE:0
SUMMARY:第３５回電気工事業全国大会
X-COST-TYPE:free
END:VEVENT
BEGIN:VEVENT
UID:ai1ec-1828@shirakawadenkyo.or.jp/wp
DTSTAMP:20260420T133600Z
CATEGORIES;LANGUAGE=ja:組合員専用
CONTACT:白河地区電気工事協同組合\; 0248-22-2481\; snj05082@nifty.com
DESCRIPTION:<p>当組合の令和４年度決算が終了し、監事による監査が終了いたしましたので、備付閲覧を実施いたしますので、閲覧希望の方は下記の
 日程（土日・休日を除き、8：30～17：00）の間に組合事務所までお越しください。</p>
DTSTART;TZID=Asia/Tokyo:20230501T083000
DTEND;TZID=Asia/Tokyo:20230521T170000
LOCATION:白河地区電気工事協同組合 @ 福島県白河市結城86-1
SEQUENCE:0
SUMMARY:令和４年度決算関係書類事務所備付閲覧について
X-COST-TYPE:free
END:VEVENT
END:VCALENDAR
